BEGIN:VCALENDAR
VERSION:2.0
PRODID:-//Saalfelden-Leogang.com//NONSGML kigkonsult.se iCalcreator 2.22.1/
 /EN
METHOD:PUBLISH
X-WR-CALNAME;LANGUAGE=en:Saalfelden-Leogang.com
X-WR-CALDESC;LANGUAGE=en:Saalfelden-Leogang.com
X-WR-TIMEZONE;LANGUAGE=en:Europe/Berlin
BEGIN:VEVENT
UID:20260423T035034CEST-7498C6buvU@Saalfelden-Leogang.com
DTSTAMP:20260423T015034Z
DESCRIPTION;LANGUAGE=en:3 Days MTB Bike Park Camp for all Mini Riders from 
 6+.\n\n\n\nClassification: All courses in small groups in the Riders Playg
 round and in the Bikepark Leogang! Here it's all about MTB and bike park t
 echnique\n\nfor the smallest among the riders.\n\n\n\nContent: Braking tec
 hniques\, cornering techniques\, steering techniques\, easy jumping techni
 ques\, small drops & tables\, active and passive\n\ntechniques and much mo
 re!\n\n\n\nWhere do we ride: On all Bike Park Leogang routes in the Riders
  Playground. Descents and track selection according to ability and need.\n
 \n\n\nMinimum age: 5+ years.\n\n\n\nLevel: **slight previous knowledge ***
  \n\n\n\nMinimum number of participants: 4 Kids \n\n\n\nStart: 09:30 a.m. 
 until approx. 15:00 p.m.
DTSTART:20260601T073000Z
DTEND:20260604T073000Z
LOCATION;LANGUAGE=en:Bike Park Leogang
SUMMARY;LANGUAGE=en:3 Tage Young Gun Mini Camp für Kinder ab 6
END:VEVENT
BEGIN:VEVENT
UID:20260423T035034CEST-7499DEIT1s@Saalfelden-Leogang.com
DTSTAMP:20260423T015034Z
DESCRIPTION;LANGUAGE=en:3 Days MTB Bike Park Camp for all Mini Riders from 
 6+.\n\n\n\nClassification: All courses in small groups in the Riders Playg
 round and in the Bikepark Leogang! Here it's all about MTB and bike park t
 echnique\n\nfor the smallest among the riders.\n\n\n\nContent: Braking tec
 hniques\, cornering techniques\, steering techniques\, easy jumping techni
 ques\, small drops & tables\, active and passive\n\ntechniques and much mo
 re!\n\n\n\nWhere do we ride: On all Bike Park Leogang routes in the Riders
  Playground. Descents and track selection according to ability and need.\n
 \n\n\nMinimum age: 5+ years.\n\n\n\nLevel: **slight previous knowledge ***
  \n\n\n\nMinimum number of participants: 4 Kids \n\n\n\nStart: 09:30 a.m. 
 until approx. 15:00 p.m.
DTSTART:20260602T073000Z
DTEND:20260605T073000Z
LOCATION;LANGUAGE=en:Bike Park Leogang
SUMMARY;LANGUAGE=en:3 Tage Young Gun Mini Camp für Kinder ab 6
END:VEVENT
BEGIN:VEVENT
UID:20260423T035034CEST-7500l5NWJu@Saalfelden-Leogang.com
DTSTAMP:20260423T015034Z
DESCRIPTION;LANGUAGE=en:3 Days MTB Bike Park Camp for all Mini Riders from 
 6+.\n\n\n\nClassification: All courses in small groups in the Riders Playg
 round and in the Bikepark Leogang! Here it's all about MTB and bike park t
 echnique\n\nfor the smallest among the riders.\n\n\n\nContent: Braking tec
 hniques\, cornering techniques\, steering techniques\, easy jumping techni
 ques\, small drops & tables\, active and passive\n\ntechniques and much mo
 re!\n\n\n\nWhere do we ride: On all Bike Park Leogang routes in the Riders
  Playground. Descents and track selection according to ability and need.\n
 \n\n\nMinimum age: 5+ years.\n\n\n\nLevel: **slight previous knowledge ***
  \n\n\n\nMinimum number of participants: 4 Kids \n\n\n\nStart: 09:30 a.m. 
 until approx. 15:00 p.m.
DTSTART:20260603T073000Z
DTEND:20260606T073000Z
LOCATION;LANGUAGE=en:Bike Park Leogang
SUMMARY;LANGUAGE=en:3 Tage Young Gun Mini Camp für Kinder ab 6
END:VEVENT
BEGIN:VEVENT
UID:20260423T035034CEST-75019C2UT6@Saalfelden-Leogang.com
DTSTAMP:20260423T015034Z
DESCRIPTION;LANGUAGE=en:3 Days MTB Bike Park Camp for all Mini Riders from 
 6+.\n\n\n\nClassification: All courses in small groups in the Riders Playg
 round and in the Bikepark Leogang! Here it's all about MTB and bike park t
 echnique\n\nfor the smallest among the riders.\n\n\n\nContent: Braking tec
 hniques\, cornering techniques\, steering techniques\, easy jumping techni
 ques\, small drops & tables\, active and passive\n\ntechniques and much mo
 re!\n\n\n\nWhere do we ride: On all Bike Park Leogang routes in the Riders
  Playground. Descents and track selection according to ability and need.\n
 \n\n\nMinimum age: 5+ years.\n\n\n\nLevel: **slight previous knowledge ***
  \n\n\n\nMinimum number of participants: 4 Kids \n\n\n\nStart: 09:30 a.m. 
 until approx. 15:00 p.m.
DTSTART:20260713T073000Z
DTEND:20260716T073000Z
LOCATION;LANGUAGE=en:Bike Park Leogang
SUMMARY;LANGUAGE=en:3 Tage Young Gun Mini Camp für Kinder ab 6
END:VEVENT
BEGIN:VEVENT
UID:20260423T035034CEST-7502sUS4x1@Saalfelden-Leogang.com
DTSTAMP:20260423T015034Z
DESCRIPTION;LANGUAGE=en:3 Days MTB Bike Park Camp for all Mini Riders from 
 6+.\n\n\n\nClassification: All courses in small groups in the Riders Playg
 round and in the Bikepark Leogang! Here it's all about MTB and bike park t
 echnique\n\nfor the smallest among the riders.\n\n\n\nContent: Braking tec
 hniques\, cornering techniques\, steering techniques\, easy jumping techni
 ques\, small drops & tables\, active and passive\n\ntechniques and much mo
 re!\n\n\n\nWhere do we ride: On all Bike Park Leogang routes in the Riders
  Playground. Descents and track selection according to ability and need.\n
 \n\n\nMinimum age: 5+ years.\n\n\n\nLevel: **slight previous knowledge ***
  \n\n\n\nMinimum number of participants: 4 Kids \n\n\n\nStart: 09:30 a.m. 
 until approx. 15:00 p.m.
DTSTART:20260714T073000Z
DTEND:20260717T073000Z
LOCATION;LANGUAGE=en:Bike Park Leogang
SUMMARY;LANGUAGE=en:3 Tage Young Gun Mini Camp für Kinder ab 6
END:VEVENT
BEGIN:VEVENT
UID:20260423T035034CEST-7503PDeJCz@Saalfelden-Leogang.com
DTSTAMP:20260423T015034Z
DESCRIPTION;LANGUAGE=en:3 Days MTB Bike Park Camp for all Mini Riders from 
 6+.\n\n\n\nClassification: All courses in small groups in the Riders Playg
 round and in the Bikepark Leogang! Here it's all about MTB and bike park t
 echnique\n\nfor the smallest among the riders.\n\n\n\nContent: Braking tec
 hniques\, cornering techniques\, steering techniques\, easy jumping techni
 ques\, small drops & tables\, active and passive\n\ntechniques and much mo
 re!\n\n\n\nWhere do we ride: On all Bike Park Leogang routes in the Riders
  Playground. Descents and track selection according to ability and need.\n
 \n\n\nMinimum age: 5+ years.\n\n\n\nLevel: **slight previous knowledge ***
  \n\n\n\nMinimum number of participants: 4 Kids \n\n\n\nStart: 09:30 a.m. 
 until approx. 15:00 p.m.
DTSTART:20260715T073000Z
DTEND:20260718T073000Z
LOCATION;LANGUAGE=en:Bike Park Leogang
SUMMARY;LANGUAGE=en:3 Tage Young Gun Mini Camp für Kinder ab 6
END:VEVENT
BEGIN:VEVENT
UID:20260423T035034CEST-7503oudCOF@Saalfelden-Leogang.com
DTSTAMP:20260423T015034Z
DESCRIPTION;LANGUAGE=en:3 Days MTB Bike Park Camp for all Mini Riders from 
 6+.\n\n\n\nClassification: All courses in small groups in the Riders Playg
 round and in the Bikepark Leogang! Here it's all about MTB and bike park t
 echnique\n\nfor the smallest among the riders.\n\n\n\nContent: Braking tec
 hniques\, cornering techniques\, steering techniques\, easy jumping techni
 ques\, small drops & tables\, active and passive\n\ntechniques and much mo
 re!\n\n\n\nWhere do we ride: On all Bike Park Leogang routes in the Riders
  Playground. Descents and track selection according to ability and need.\n
 \n\n\nMinimum age: 5+ years.\n\n\n\nLevel: **slight previous knowledge ***
  \n\n\n\nMinimum number of participants: 4 Kids \n\n\n\nStart: 09:30 a.m. 
 until approx. 15:00 p.m.
DTSTART:20260720T073000Z
DTEND:20260723T073000Z
LOCATION;LANGUAGE=en:Bike Park Leogang
SUMMARY;LANGUAGE=en:3 Tage Young Gun Mini Camp für Kinder ab 6
END:VEVENT
BEGIN:VEVENT
UID:20260423T035034CEST-7504VXlUjU@Saalfelden-Leogang.com
DTSTAMP:20260423T015034Z
DESCRIPTION;LANGUAGE=en:3 Days MTB Bike Park Camp for all Mini Riders from 
 6+.\n\n\n\nClassification: All courses in small groups in the Riders Playg
 round and in the Bikepark Leogang! Here it's all about MTB and bike park t
 echnique\n\nfor the smallest among the riders.\n\n\n\nContent: Braking tec
 hniques\, cornering techniques\, steering techniques\, easy jumping techni
 ques\, small drops & tables\, active and passive\n\ntechniques and much mo
 re!\n\n\n\nWhere do we ride: On all Bike Park Leogang routes in the Riders
  Playground. Descents and track selection according to ability and need.\n
 \n\n\nMinimum age: 5+ years.\n\n\n\nLevel: **slight previous knowledge ***
  \n\n\n\nMinimum number of participants: 4 Kids \n\n\n\nStart: 09:30 a.m. 
 until approx. 15:00 p.m.
DTSTART:20260721T073000Z
DTEND:20260724T073000Z
LOCATION;LANGUAGE=en:Bike Park Leogang
SUMMARY;LANGUAGE=en:3 Tage Young Gun Mini Camp für Kinder ab 6
END:VEVENT
BEGIN:VEVENT
UID:20260423T035034CEST-7505UJuoKk@Saalfelden-Leogang.com
DTSTAMP:20260423T015034Z
DESCRIPTION;LANGUAGE=en:3 Days MTB Bike Park Camp for all Mini Riders from 
 6+.\n\n\n\nClassification: All courses in small groups in the Riders Playg
 round and in the Bikepark Leogang! Here it's all about MTB and bike park t
 echnique\n\nfor the smallest among the riders.\n\n\n\nContent: Braking tec
 hniques\, cornering techniques\, steering techniques\, easy jumping techni
 ques\, small drops & tables\, active and passive\n\ntechniques and much mo
 re!\n\n\n\nWhere do we ride: On all Bike Park Leogang routes in the Riders
  Playground. Descents and track selection according to ability and need.\n
 \n\n\nMinimum age: 5+ years.\n\n\n\nLevel: **slight previous knowledge ***
  \n\n\n\nMinimum number of participants: 4 Kids \n\n\n\nStart: 09:30 a.m. 
 until approx. 15:00 p.m.
DTSTART:20260722T073000Z
DTEND:20260725T073000Z
LOCATION;LANGUAGE=en:Bike Park Leogang
SUMMARY;LANGUAGE=en:3 Tage Young Gun Mini Camp für Kinder ab 6
END:VEVENT
BEGIN:VEVENT
UID:20260423T035034CEST-7505VI8NAd@Saalfelden-Leogang.com
DTSTAMP:20260423T015034Z
DESCRIPTION;LANGUAGE=en:3 Days MTB Bike Park Camp for all Mini Riders from 
 6+.\n\n\n\nClassification: All courses in small groups in the Riders Playg
 round and in the Bikepark Leogang! Here it's all about MTB and bike park t
 echnique\n\nfor the smallest among the riders.\n\n\n\nContent: Braking tec
 hniques\, cornering techniques\, steering techniques\, easy jumping techni
 ques\, small drops & tables\, active and passive\n\ntechniques and much mo
 re!\n\n\n\nWhere do we ride: On all Bike Park Leogang routes in the Riders
  Playground. Descents and track selection according to ability and need.\n
 \n\n\nMinimum age: 5+ years.\n\n\n\nLevel: **slight previous knowledge ***
  \n\n\n\nMinimum number of participants: 4 Kids \n\n\n\nStart: 09:30 a.m. 
 until approx. 15:00 p.m.
DTSTART:20260727T073000Z
DTEND:20260730T073000Z
LOCATION;LANGUAGE=en:Bike Park Leogang
SUMMARY;LANGUAGE=en:3 Tage Young Gun Mini Camp für Kinder ab 6
END:VEVENT
BEGIN:VEVENT
UID:20260423T035034CEST-7506LFtrpu@Saalfelden-Leogang.com
DTSTAMP:20260423T015034Z
DESCRIPTION;LANGUAGE=en:3 Days MTB Bike Park Camp for all Mini Riders from 
 6+.\n\n\n\nClassification: All courses in small groups in the Riders Playg
 round and in the Bikepark Leogang! Here it's all about MTB and bike park t
 echnique\n\nfor the smallest among the riders.\n\n\n\nContent: Braking tec
 hniques\, cornering techniques\, steering techniques\, easy jumping techni
 ques\, small drops & tables\, active and passive\n\ntechniques and much mo
 re!\n\n\n\nWhere do we ride: On all Bike Park Leogang routes in the Riders
  Playground. Descents and track selection according to ability and need.\n
 \n\n\nMinimum age: 5+ years.\n\n\n\nLevel: **slight previous knowledge ***
  \n\n\n\nMinimum number of participants: 4 Kids \n\n\n\nStart: 09:30 a.m. 
 until approx. 15:00 p.m.
DTSTART:20260728T073000Z
DTEND:20260731T073000Z
LOCATION;LANGUAGE=en:Bike Park Leogang
SUMMARY;LANGUAGE=en:3 Tage Young Gun Mini Camp für Kinder ab 6
END:VEVENT
BEGIN:VEVENT
UID:20260423T035034CEST-7507RUJ3vr@Saalfelden-Leogang.com
DTSTAMP:20260423T015034Z
DESCRIPTION;LANGUAGE=en:3 Days MTB Bike Park Camp for all Mini Riders from 
 6+.\n\n\n\nClassification: All courses in small groups in the Riders Playg
 round and in the Bikepark Leogang! Here it's all about MTB and bike park t
 echnique\n\nfor the smallest among the riders.\n\n\n\nContent: Braking tec
 hniques\, cornering techniques\, steering techniques\, easy jumping techni
 ques\, small drops & tables\, active and passive\n\ntechniques and much mo
 re!\n\n\n\nWhere do we ride: On all Bike Park Leogang routes in the Riders
  Playground. Descents and track selection according to ability and need.\n
 \n\n\nMinimum age: 5+ years.\n\n\n\nLevel: **slight previous knowledge ***
  \n\n\n\nMinimum number of participants: 4 Kids \n\n\n\nStart: 09:30 a.m. 
 until approx. 15:00 p.m.
DTSTART:20260729T073000Z
DTEND:20260801T073000Z
LOCATION;LANGUAGE=en:Bike Park Leogang
SUMMARY;LANGUAGE=en:3 Tage Young Gun Mini Camp für Kinder ab 6
END:VEVENT
BEGIN:VEVENT
UID:20260423T035034CEST-7507Suiiz2@Saalfelden-Leogang.com
DTSTAMP:20260423T015034Z
DESCRIPTION;LANGUAGE=en:3 Days MTB Bike Park Camp for all Mini Riders from 
 6+.\n\n\n\nClassification: All courses in small groups in the Riders Playg
 round and in the Bikepark Leogang! Here it's all about MTB and bike park t
 echnique\n\nfor the smallest among the riders.\n\n\n\nContent: Braking tec
 hniques\, cornering techniques\, steering techniques\, easy jumping techni
 ques\, small drops & tables\, active and passive\n\ntechniques and much mo
 re!\n\n\n\nWhere do we ride: On all Bike Park Leogang routes in the Riders
  Playground. Descents and track selection according to ability and need.\n
 \n\n\nMinimum age: 5+ years.\n\n\n\nLevel: **slight previous knowledge ***
  \n\n\n\nMinimum number of participants: 4 Kids \n\n\n\nStart: 09:30 a.m. 
 until approx. 15:00 p.m.
DTSTART:20260803T073000Z
DTEND:20260806T073000Z
LOCATION;LANGUAGE=en:Bike Park Leogang
SUMMARY;LANGUAGE=en:3 Tage Young Gun Mini Camp für Kinder ab 6
END:VEVENT
BEGIN:VEVENT
UID:20260423T035034CEST-7508rMIUTe@Saalfelden-Leogang.com
DTSTAMP:20260423T015034Z
DESCRIPTION;LANGUAGE=en:3 Days MTB Bike Park Camp for all Mini Riders from 
 6+.\n\n\n\nClassification: All courses in small groups in the Riders Playg
 round and in the Bikepark Leogang! Here it's all about MTB and bike park t
 echnique\n\nfor the smallest among the riders.\n\n\n\nContent: Braking tec
 hniques\, cornering techniques\, steering techniques\, easy jumping techni
 ques\, small drops & tables\, active and passive\n\ntechniques and much mo
 re!\n\n\n\nWhere do we ride: On all Bike Park Leogang routes in the Riders
  Playground. Descents and track selection according to ability and need.\n
 \n\n\nMinimum age: 5+ years.\n\n\n\nLevel: **slight previous knowledge ***
  \n\n\n\nMinimum number of participants: 4 Kids \n\n\n\nStart: 09:30 a.m. 
 until approx. 15:00 p.m.
DTSTART:20260804T073000Z
DTEND:20260807T073000Z
LOCATION;LANGUAGE=en:Bike Park Leogang
SUMMARY;LANGUAGE=en:3 Tage Young Gun Mini Camp für Kinder ab 6
END:VEVENT
BEGIN:VEVENT
UID:20260423T035034CEST-7509aOmcpJ@Saalfelden-Leogang.com
DTSTAMP:20260423T015034Z
DESCRIPTION;LANGUAGE=en:3 Days MTB Bike Park Camp for all Mini Riders from 
 6+.\n\n\n\nClassification: All courses in small groups in the Riders Playg
 round and in the Bikepark Leogang! Here it's all about MTB and bike park t
 echnique\n\nfor the smallest among the riders.\n\n\n\nContent: Braking tec
 hniques\, cornering techniques\, steering techniques\, easy jumping techni
 ques\, small drops & tables\, active and passive\n\ntechniques and much mo
 re!\n\n\n\nWhere do we ride: On all Bike Park Leogang routes in the Riders
  Playground. Descents and track selection according to ability and need.\n
 \n\n\nMinimum age: 5+ years.\n\n\n\nLevel: **slight previous knowledge ***
  \n\n\n\nMinimum number of participants: 4 Kids \n\n\n\nStart: 09:30 a.m. 
 until approx. 15:00 p.m.
DTSTART:20260805T073000Z
DTEND:20260808T073000Z
LOCATION;LANGUAGE=en:Bike Park Leogang
SUMMARY;LANGUAGE=en:3 Tage Young Gun Mini Camp für Kinder ab 6
END:VEVENT
BEGIN:VEVENT
UID:20260423T035034CEST-75100pv2wC@Saalfelden-Leogang.com
DTSTAMP:20260423T015034Z
DESCRIPTION;LANGUAGE=en:3 Days MTB Bike Park Camp for all Mini Riders from 
 6+.\n\n\n\nClassification: All courses in small groups in the Riders Playg
 round and in the Bikepark Leogang! Here it's all about MTB and bike park t
 echnique\n\nfor the smallest among the riders.\n\n\n\nContent: Braking tec
 hniques\, cornering techniques\, steering techniques\, easy jumping techni
 ques\, small drops & tables\, active and passive\n\ntechniques and much mo
 re!\n\n\n\nWhere do we ride: On all Bike Park Leogang routes in the Riders
  Playground. Descents and track selection according to ability and need.\n
 \n\n\nMinimum age: 5+ years.\n\n\n\nLevel: **slight previous knowledge ***
  \n\n\n\nMinimum number of participants: 4 Kids \n\n\n\nStart: 09:30 a.m. 
 until approx. 15:00 p.m.
DTSTART:20260810T073000Z
DTEND:20260813T073000Z
LOCATION;LANGUAGE=en:Bike Park Leogang
SUMMARY;LANGUAGE=en:3 Tage Young Gun Mini Camp für Kinder ab 6
END:VEVENT
BEGIN:VEVENT
UID:20260423T035034CEST-7511SmWA8s@Saalfelden-Leogang.com
DTSTAMP:20260423T015034Z
DESCRIPTION;LANGUAGE=en:3 Days MTB Bike Park Camp for all Mini Riders from 
 6+.\n\n\n\nClassification: All courses in small groups in the Riders Playg
 round and in the Bikepark Leogang! Here it's all about MTB and bike park t
 echnique\n\nfor the smallest among the riders.\n\n\n\nContent: Braking tec
 hniques\, cornering techniques\, steering techniques\, easy jumping techni
 ques\, small drops & tables\, active and passive\n\ntechniques and much mo
 re!\n\n\n\nWhere do we ride: On all Bike Park Leogang routes in the Riders
  Playground. Descents and track selection according to ability and need.\n
 \n\n\nMinimum age: 5+ years.\n\n\n\nLevel: **slight previous knowledge ***
  \n\n\n\nMinimum number of participants: 4 Kids \n\n\n\nStart: 09:30 a.m. 
 until approx. 15:00 p.m.
DTSTART:20260811T073000Z
DTEND:20260814T073000Z
LOCATION;LANGUAGE=en:Bike Park Leogang
SUMMARY;LANGUAGE=en:3 Tage Young Gun Mini Camp für Kinder ab 6
END:VEVENT
BEGIN:VEVENT
UID:20260423T035034CEST-7511huStvn@Saalfelden-Leogang.com
DTSTAMP:20260423T015034Z
DESCRIPTION;LANGUAGE=en:3 Days MTB Bike Park Camp for all Mini Riders from 
 6+.\n\n\n\nClassification: All courses in small groups in the Riders Playg
 round and in the Bikepark Leogang! Here it's all about MTB and bike park t
 echnique\n\nfor the smallest among the riders.\n\n\n\nContent: Braking tec
 hniques\, cornering techniques\, steering techniques\, easy jumping techni
 ques\, small drops & tables\, active and passive\n\ntechniques and much mo
 re!\n\n\n\nWhere do we ride: On all Bike Park Leogang routes in the Riders
  Playground. Descents and track selection according to ability and need.\n
 \n\n\nMinimum age: 5+ years.\n\n\n\nLevel: **slight previous knowledge ***
  \n\n\n\nMinimum number of participants: 4 Kids \n\n\n\nStart: 09:30 a.m. 
 until approx. 15:00 p.m.
DTSTART:20260812T073000Z
DTEND:20260815T073000Z
LOCATION;LANGUAGE=en:Bike Park Leogang
SUMMARY;LANGUAGE=en:3 Tage Young Gun Mini Camp für Kinder ab 6
END:VEVENT
BEGIN:VEVENT
UID:20260423T035034CEST-7512RlIvgl@Saalfelden-Leogang.com
DTSTAMP:20260423T015034Z
DESCRIPTION;LANGUAGE=en:3 Days MTB Bike Park Camp for all Mini Riders from 
 6+.\n\n\n\nClassification: All courses in small groups in the Riders Playg
 round and in the Bikepark Leogang! Here it's all about MTB and bike park t
 echnique\n\nfor the smallest among the riders.\n\n\n\nContent: Braking tec
 hniques\, cornering techniques\, steering techniques\, easy jumping techni
 ques\, small drops & tables\, active and passive\n\ntechniques and much mo
 re!\n\n\n\nWhere do we ride: On all Bike Park Leogang routes in the Riders
  Playground. Descents and track selection according to ability and need.\n
 \n\n\nMinimum age: 5+ years.\n\n\n\nLevel: **slight previous knowledge ***
  \n\n\n\nMinimum number of participants: 4 Kids \n\n\n\nStart: 09:30 a.m. 
 until approx. 15:00 p.m.
DTSTART:20260817T073000Z
DTEND:20260820T073000Z
LOCATION;LANGUAGE=en:Bike Park Leogang
SUMMARY;LANGUAGE=en:3 Tage Young Gun Mini Camp für Kinder ab 6
END:VEVENT
BEGIN:VEVENT
UID:20260423T035034CEST-75134Mfk7k@Saalfelden-Leogang.com
DTSTAMP:20260423T015034Z
DESCRIPTION;LANGUAGE=en:3 Days MTB Bike Park Camp for all Mini Riders from 
 6+.\n\n\n\nClassification: All courses in small groups in the Riders Playg
 round and in the Bikepark Leogang! Here it's all about MTB and bike park t
 echnique\n\nfor the smallest among the riders.\n\n\n\nContent: Braking tec
 hniques\, cornering techniques\, steering techniques\, easy jumping techni
 ques\, small drops & tables\, active and passive\n\ntechniques and much mo
 re!\n\n\n\nWhere do we ride: On all Bike Park Leogang routes in the Riders
  Playground. Descents and track selection according to ability and need.\n
 \n\n\nMinimum age: 5+ years.\n\n\n\nLevel: **slight previous knowledge ***
  \n\n\n\nMinimum number of participants: 4 Kids \n\n\n\nStart: 09:30 a.m. 
 until approx. 15:00 p.m.
DTSTART:20260818T073000Z
DTEND:20260821T073000Z
LOCATION;LANGUAGE=en:Bike Park Leogang
SUMMARY;LANGUAGE=en:3 Tage Young Gun Mini Camp für Kinder ab 6
END:VEVENT
BEGIN:VEVENT
UID:20260423T035034CEST-7513e1UFKh@Saalfelden-Leogang.com
DTSTAMP:20260423T015034Z
DESCRIPTION;LANGUAGE=en:3 Days MTB Bike Park Camp for all Mini Riders from 
 6+.\n\n\n\nClassification: All courses in small groups in the Riders Playg
 round and in the Bikepark Leogang! Here it's all about MTB and bike park t
 echnique\n\nfor the smallest among the riders.\n\n\n\nContent: Braking tec
 hniques\, cornering techniques\, steering techniques\, easy jumping techni
 ques\, small drops & tables\, active and passive\n\ntechniques and much mo
 re!\n\n\n\nWhere do we ride: On all Bike Park Leogang routes in the Riders
  Playground. Descents and track selection according to ability and need.\n
 \n\n\nMinimum age: 5+ years.\n\n\n\nLevel: **slight previous knowledge ***
  \n\n\n\nMinimum number of participants: 4 Kids \n\n\n\nStart: 09:30 a.m. 
 until approx. 15:00 p.m.
DTSTART:20260819T073000Z
DTEND:20260822T073000Z
LOCATION;LANGUAGE=en:Bike Park Leogang
SUMMARY;LANGUAGE=en:3 Tage Young Gun Mini Camp für Kinder ab 6
END:VEVENT
BEGIN:VEVENT
UID:20260423T035034CEST-7514SauhZC@Saalfelden-Leogang.com
DTSTAMP:20260423T015034Z
DESCRIPTION;LANGUAGE=en:3 Days MTB Bike Park Camp for all Mini Riders from 
 6+.\n\n\n\nClassification: All courses in small groups in the Riders Playg
 round and in the Bikepark Leogang! Here it's all about MTB and bike park t
 echnique\n\nfor the smallest among the riders.\n\n\n\nContent: Braking tec
 hniques\, cornering techniques\, steering techniques\, easy jumping techni
 ques\, small drops & tables\, active and passive\n\ntechniques and much mo
 re!\n\n\n\nWhere do we ride: On all Bike Park Leogang routes in the Riders
  Playground. Descents and track selection according to ability and need.\n
 \n\n\nMinimum age: 5+ years.\n\n\n\nLevel: **slight previous knowledge ***
  \n\n\n\nMinimum number of participants: 4 Kids \n\n\n\nStart: 09:30 a.m. 
 until approx. 15:00 p.m.
DTSTART:20260824T073000Z
DTEND:20260827T073000Z
LOCATION;LANGUAGE=en:Bike Park Leogang
SUMMARY;LANGUAGE=en:3 Tage Young Gun Mini Camp für Kinder ab 6
END:VEVENT
BEGIN:VEVENT
UID:20260423T035034CEST-7515AlT8zn@Saalfelden-Leogang.com
DTSTAMP:20260423T015034Z
DESCRIPTION;LANGUAGE=en:3 Days MTB Bike Park Camp for all Mini Riders from 
 6+.\n\n\n\nClassification: All courses in small groups in the Riders Playg
 round and in the Bikepark Leogang! Here it's all about MTB and bike park t
 echnique\n\nfor the smallest among the riders.\n\n\n\nContent: Braking tec
 hniques\, cornering techniques\, steering techniques\, easy jumping techni
 ques\, small drops & tables\, active and passive\n\ntechniques and much mo
 re!\n\n\n\nWhere do we ride: On all Bike Park Leogang routes in the Riders
  Playground. Descents and track selection according to ability and need.\n
 \n\n\nMinimum age: 5+ years.\n\n\n\nLevel: **slight previous knowledge ***
  \n\n\n\nMinimum number of participants: 4 Kids \n\n\n\nStart: 09:30 a.m. 
 until approx. 15:00 p.m.
DTSTART:20260825T073000Z
DTEND:20260828T073000Z
LOCATION;LANGUAGE=en:Bike Park Leogang
SUMMARY;LANGUAGE=en:3 Tage Young Gun Mini Camp für Kinder ab 6
END:VEVENT
BEGIN:VEVENT
UID:20260423T035034CEST-7515fIxcUJ@Saalfelden-Leogang.com
DTSTAMP:20260423T015034Z
DESCRIPTION;LANGUAGE=en:3 Days MTB Bike Park Camp for all Mini Riders from 
 6+.\n\n\n\nClassification: All courses in small groups in the Riders Playg
 round and in the Bikepark Leogang! Here it's all about MTB and bike park t
 echnique\n\nfor the smallest among the riders.\n\n\n\nContent: Braking tec
 hniques\, cornering techniques\, steering techniques\, easy jumping techni
 ques\, small drops & tables\, active and passive\n\ntechniques and much mo
 re!\n\n\n\nWhere do we ride: On all Bike Park Leogang routes in the Riders
  Playground. Descents and track selection according to ability and need.\n
 \n\n\nMinimum age: 5+ years.\n\n\n\nLevel: **slight previous knowledge ***
  \n\n\n\nMinimum number of participants: 4 Kids \n\n\n\nStart: 09:30 a.m. 
 until approx. 15:00 p.m.
DTSTART:20260826T073000Z
DTEND:20260829T073000Z
LOCATION;LANGUAGE=en:Bike Park Leogang
SUMMARY;LANGUAGE=en:3 Tage Young Gun Mini Camp für Kinder ab 6
END:VEVENT
BEGIN:VEVENT
UID:20260423T035034CEST-7516kUNBd9@Saalfelden-Leogang.com
DTSTAMP:20260423T015034Z
DESCRIPTION;LANGUAGE=en:3 Days MTB Bike Park Camp for all Mini Riders from 
 6+.\n\n\n\nClassification: All courses in small groups in the Riders Playg
 round and in the Bikepark Leogang! Here it's all about MTB and bike park t
 echnique\n\nfor the smallest among the riders.\n\n\n\nContent: Braking tec
 hniques\, cornering techniques\, steering techniques\, easy jumping techni
 ques\, small drops & tables\, active and passive\n\ntechniques and much mo
 re!\n\n\n\nWhere do we ride: On all Bike Park Leogang routes in the Riders
  Playground. Descents and track selection according to ability and need.\n
 \n\n\nMinimum age: 5+ years.\n\n\n\nLevel: **slight previous knowledge ***
  \n\n\n\nMinimum number of participants: 4 Kids \n\n\n\nStart: 09:30 a.m. 
 until approx. 15:00 p.m.
DTSTART:20261019T073000Z
DTEND:20261022T073000Z
LOCATION;LANGUAGE=en:Bike Park Leogang
SUMMARY;LANGUAGE=en:3 Tage Young Gun Mini Camp für Kinder ab 6
END:VEVENT
BEGIN:VEVENT
UID:20260423T035034CEST-7517I88Rzn@Saalfelden-Leogang.com
DTSTAMP:20260423T015034Z
DESCRIPTION;LANGUAGE=en:3 Days MTB Bike Park Camp for all Mini Riders from 
 6+.\n\n\n\nClassification: All courses in small groups in the Riders Playg
 round and in the Bikepark Leogang! Here it's all about MTB and bike park t
 echnique\n\nfor the smallest among the riders.\n\n\n\nContent: Braking tec
 hniques\, cornering techniques\, steering techniques\, easy jumping techni
 ques\, small drops & tables\, active and passive\n\ntechniques and much mo
 re!\n\n\n\nWhere do we ride: On all Bike Park Leogang routes in the Riders
  Playground. Descents and track selection according to ability and need.\n
 \n\n\nMinimum age: 5+ years.\n\n\n\nLevel: **slight previous knowledge ***
  \n\n\n\nMinimum number of participants: 4 Kids \n\n\n\nStart: 09:30 a.m. 
 until approx. 15:00 p.m.
DTSTART:20261020T073000Z
DTEND:20261023T073000Z
LOCATION;LANGUAGE=en:Bike Park Leogang
SUMMARY;LANGUAGE=en:3 Tage Young Gun Mini Camp für Kinder ab 6
END:VEVENT
BEGIN:VEVENT
UID:20260423T035034CEST-7518Ttb3xd@Saalfelden-Leogang.com
DTSTAMP:20260423T015034Z
DESCRIPTION;LANGUAGE=en:3 Days MTB Bike Park Camp for all Mini Riders from 
 6+.\n\n\n\nClassification: All courses in small groups in the Riders Playg
 round and in the Bikepark Leogang! Here it's all about MTB and bike park t
 echnique\n\nfor the smallest among the riders.\n\n\n\nContent: Braking tec
 hniques\, cornering techniques\, steering techniques\, easy jumping techni
 ques\, small drops & tables\, active and passive\n\ntechniques and much mo
 re!\n\n\n\nWhere do we ride: On all Bike Park Leogang routes in the Riders
  Playground. Descents and track selection according to ability and need.\n
 \n\n\nMinimum age: 5+ years.\n\n\n\nLevel: **slight previous knowledge ***
  \n\n\n\nMinimum number of participants: 4 Kids \n\n\n\nStart: 09:30 a.m. 
 until approx. 15:00 p.m.
DTSTART:20261021T073000Z
DTEND:20261024T073000Z
LOCATION;LANGUAGE=en:Bike Park Leogang
SUMMARY;LANGUAGE=en:3 Tage Young Gun Mini Camp für Kinder ab 6
END:VEVENT
END:VCALENDAR
